
BEGIN:VCALENDAR
VERSION:2.0
PRODID:-//Caribbean Group of Banking Supervisors - ECPv6.0.6.2//NONSGML v1.0//EN
CALSCALE:GREGORIAN
METHOD:PUBLISH
X-ORIGINAL-URL:https://portal.boj.org.jm/CGBS
X-WR-CALDESC:Events for Caribbean Group of Banking Supervisors
REFRESH-INTERVAL;VALUE=DURATION:PT1H
X-Robots-Tag:noindex
X-PUBLISHED-TTL:PT1H
BEGIN:VTIMEZONE
TZID:America/Jamaica
BEGIN:STANDARD
TZOFFSETFROM:-0500
TZOFFSETTO:-0500
TZNAME:EST
DTSTART:20250101T000000
END:STANDARD
END:VTIMEZONE
BEGIN:VEVENT
DTSTART;TZID=America/Jamaica:20250512T080000
DTEND;TZID=America/Jamaica:20250515T170000
DTSTAMP:20260420T210856
CREATED:20250225T160955Z
LAST-MODIFIED:20250411T213338Z
UID:2364-1747036800-1747328400@portal.boj.org.jm
SUMMARY:Bank Analysis and Examination Course
DESCRIPTION:
URL:https://portal.boj.org.jm/CGBS/event/bank-analysis-and-examination-course/
END:VEVENT
BEGIN:VEVENT
DTSTART;TZID=America/Jamaica:20250605T080000
DTEND;TZID=America/Jamaica:20250607T163000
DTSTAMP:20260420T210857
CREATED:20250225T160243Z
LAST-MODIFIED:20250411T213244Z
UID:2360-1749110400-1749313800@portal.boj.org.jm
SUMMARY:CGBS XLII Annual Conference
DESCRIPTION:
URL:https://portal.boj.org.jm/CGBS/event/cgbs-xlii-annual-conference/
END:VEVENT
BEGIN:VEVENT
DTSTART;TZID=America/Jamaica:20250616T080000
DTEND;TZID=America/Jamaica:20250619T170000
DTSTAMP:20260420T210857
CREATED:20250225T160639Z
LAST-MODIFIED:20250410T221959Z
UID:2362-1750060800-1750352400@portal.boj.org.jm
SUMMARY:Dealing with Problem Banks Seminar
DESCRIPTION:Click here to register
URL:https://portal.boj.org.jm/CGBS/event/dealing-with-problem-banks-seminar/
LOCATION:Bank of Jamaica\, Nethersole Place\, Kingston\, Jamaica
END:VEVENT
BEGIN:VEVENT
DTSTART;TZID=America/Jamaica:20260420T080000
DTEND;TZID=America/Jamaica:20260422T170000
DTSTAMP:20260420T210857
CREATED:20260225T203008Z
LAST-MODIFIED:20260303T173811Z
UID:2433-1776672000-1776877200@portal.boj.org.jm
SUMMARY:Risk Management and Internal Controls Seminar
DESCRIPTION:Click here to register
URL:https://portal.boj.org.jm/CGBS/event/risk-management-and-internal-controls-seminar/
LOCATION:Bank of Jamaica\, Nethersole Place\, Kingston\, Jamaica
END:VEVENT
END:VCALENDAR